BEGIN:VCALENDAR
VERSION:2.0
PRODID:-//Fairfield Women&#039;s Club - ECPv6.1.3//NONSGML v1.0//EN
CALSCALE:GREGORIAN
METHOD:PUBLISH
X-WR-CALNAME:Fairfield Women&#039;s Club
X-ORIGINAL-URL:https://fairfieldwomensclub.org
X-WR-CALDESC:Events for Fairfield Women&#039;s Club
REFRESH-INTERVAL;VALUE=DURATION:PT1H
X-Robots-Tag:noindex
X-PUBLISHED-TTL:PT1H
BEGIN:VTIMEZONE
TZID:UTC
BEGIN:STANDARD
TZOFFSETFROM:+0000
TZOFFSETTO:+0000
TZNAME:UTC
DTSTART:20180101T000000
END:STANDARD
END:VTIMEZONE
BEGIN:VEVENT
DTSTART;TZID=UTC:20180301T100000
DTEND;TZID=UTC:20180301T140000
DTSTAMP:20260420T072333
CREATED:20180206T195217Z
LAST-MODIFIED:20180220T200104Z
UID:65-1519898400-1519912800@fairfieldwomensclub.org
SUMMARY:Briley Green Boutique
DESCRIPTION:Briley Green Boutique Shopping Event
URL:https://fairfieldwomensclub.org/event/come-and-shop/
LOCATION:Bradford Creek Clubhouse\, 16011 Fairfield Green Circle\, Cypress\, TX\, 77433\, United States
CATEGORIES:All Events
ATTACH;FMTTYPE=image/jpeg:https://fairfieldwomensclub.org/wp-content/uploads/2018/02/AA7C3DC3-1FA5-4B33-A641-4B22F9A4002F.jpeg
ORGANIZER;CN="Fairfield%20Women%27s%20Club":MAILTO:FairfieldWomensClub@gmail.com
END:VEVENT
END:VCALENDAR