BEGIN:VCALENDAR
VERSION:2.0
PRODID:-//Fairfield Women&#039;s Club - ECPv6.1.3//NONSGML v1.0//EN
CALSCALE:GREGORIAN
METHOD:PUBLISH
X-ORIGINAL-URL:https://fairfieldwomensclub.org
X-WR-CALDESC:Events for Fairfield Women&#039;s Club
REFRESH-INTERVAL;VALUE=DURATION:PT1H
X-Robots-Tag:noindex
X-PUBLISHED-TTL:PT1H
BEGIN:VTIMEZONE
TZID:UTC
BEGIN:STANDARD
TZOFFSETFROM:+0000
TZOFFSETTO:+0000
TZNAME:UTC
DTSTART:20180101T000000
END:STANDARD
END:VTIMEZONE
BEGIN:VEVENT
DTSTART;TZID=UTC:20180320T190000
DTEND;TZID=UTC:20180320T190000
DTSTAMP:20260420T072351
CREATED:20180220T151847Z
LAST-MODIFIED:20180220T173604Z
UID:295-1521572400-1521572400@fairfieldwomensclub.org
SUMMARY:March Meeting
DESCRIPTION:Come have fun with lot’s of wonderful Ladies and play some Handbag Bingo! Don’t forget your purses loaded with all your necessities.
URL:https://fairfieldwomensclub.org/event/march-meeting/
LOCATION:Bradford Creek Clubhouse\, 16011 Fairfield Green Circle\, Cypress\, TX\, 77433\, United States
ATTACH;FMTTYPE=image/jpeg:https://fairfieldwomensclub.org/wp-content/uploads/2018/02/28055874_10155379107772957_235518183966313220_n.jpg
ORGANIZER;CN="Fairfield%20Women%27s%20Club":MAILTO:FairfieldWomensClub@gmail.com
END:VEVENT
END:VCALENDAR