BEGIN:VCALENDAR
VERSION:2.0
PRODID:-//Fairfield Women&#039;s Club - ECPv6.1.3//NONSGML v1.0//EN
CALSCALE:GREGORIAN
METHOD:PUBLISH
X-WR-CALNAME:Fairfield Women&#039;s Club
X-ORIGINAL-URL:https://fairfieldwomensclub.org
X-WR-CALDESC:Events for Fairfield Women&#039;s Club
REFRESH-INTERVAL;VALUE=DURATION:PT1H
X-Robots-Tag:noindex
X-PUBLISHED-TTL:PT1H
BEGIN:VTIMEZONE
TZID:UTC
BEGIN:STANDARD
TZOFFSETFROM:+0000
TZOFFSETTO:+0000
TZNAME:UTC
DTSTART:20180101T000000
END:STANDARD
END:VTIMEZONE
BEGIN:VEVENT
DTSTART;TZID=UTC:20180913T113000
DTEND;TZID=UTC:20180913T130000
DTSTAMP:20260419T211322
CREATED:20180903T212210Z
LAST-MODIFIED:20180903T212210Z
UID:491-1536838200-1536843600@fairfieldwomensclub.org
SUMMARY:September Lunch Bunch
DESCRIPTION:
URL:https://fairfieldwomensclub.org/event/september-lunch-bunch/
LOCATION:Hanan’s Cafe\, 25282 NW Freeway\, Cypress\, TX\, United States
END:VEVENT
END:VCALENDAR