BEGIN:VCALENDAR
VERSION:2.0
PRODID:-//Fairfield Women&#039;s Club - ECPv6.1.3//NONSGML v1.0//EN
CALSCALE:GREGORIAN
METHOD:PUBLISH
X-WR-CALNAME:Fairfield Women&#039;s Club
X-ORIGINAL-URL:https://fairfieldwomensclub.org
X-WR-CALDESC:Events for Fairfield Women&#039;s Club
REFRESH-INTERVAL;VALUE=DURATION:PT1H
X-Robots-Tag:noindex
X-PUBLISHED-TTL:PT1H
BEGIN:VTIMEZONE
TZID:UTC
BEGIN:STANDARD
TZOFFSETFROM:+0000
TZOFFSETTO:+0000
TZNAME:UTC
DTSTART:20180101T000000
END:STANDARD
END:VTIMEZONE
BEGIN:VEVENT
DTSTART;TZID=UTC:20180918T190000
DTEND;TZID=UTC:20180918T210000
DTSTAMP:20260419T211322
CREATED:20180823T001357Z
LAST-MODIFIED:20180823T001357Z
UID:469-1537297200-1537304400@fairfieldwomensclub.org
SUMMARY:September Club Meeting
DESCRIPTION:
URL:https://fairfieldwomensclub.org/event/september-club-meeting/
LOCATION:Cy Fair Volunteer Fire Department\, 20444 Cypresswood Dr.\, Cypress\, TX\, 77433\, United States
ORGANIZER;CN="Fairfield%20Women%27s%20Club":MAILTO:FairfieldWomensClub@gmail.com
END:VEVENT
END:VCALENDAR