BEGIN:VCALENDAR
VERSION:2.0
PRODID:-//Fairfield Women&#039;s Club - ECPv6.1.3//NONSGML v1.0//EN
CALSCALE:GREGORIAN
METHOD:PUBLISH
X-WR-CALNAME:Fairfield Women&#039;s Club
X-ORIGINAL-URL:https://fairfieldwomensclub.org
X-WR-CALDESC:Events for Fairfield Women&#039;s Club
REFRESH-INTERVAL;VALUE=DURATION:PT1H
X-Robots-Tag:noindex
X-PUBLISHED-TTL:PT1H
BEGIN:VTIMEZONE
TZID:UTC
BEGIN:STANDARD
TZOFFSETFROM:+0000
TZOFFSETTO:+0000
TZNAME:UTC
DTSTART:20180101T000000
END:STANDARD
END:VTIMEZONE
BEGIN:VEVENT
DTSTART;TZID=UTC:20181016T190000
DTEND;TZID=UTC:20181016T190000
DTSTAMP:20260419T200344
CREATED:20181008T190248Z
LAST-MODIFIED:20181008T190248Z
UID:521-1539716400-1539716400@fairfieldwomensclub.org
SUMMARY:October Club Meeting
DESCRIPTION:Join us for a Festive Fall meeting.  Since so many of you have been selling pecans\, we thought it might be fun for those attending to make your favorite “pecan dish” and bring it to share.  You know everyone will want a copy of the recipe so bring one copy and those interested can take a screen shot on their phones.  We are “NUTS ABOUT YOU” and have a fun evening planned.  Bring a friend.
URL:https://fairfieldwomensclub.org/event/october-club-meeting/
LOCATION:Bradford Creek Clubhouse\, 16011 Fairfield Green Circle\, Cypress\, TX\, 77433\, United States
END:VEVENT
END:VCALENDAR