BEGIN:VCALENDAR
VERSION:2.0
PRODID:-//Fairfield Women&#039;s Club - ECPv6.1.3//NONSGML v1.0//EN
CALSCALE:GREGORIAN
METHOD:PUBLISH
X-WR-CALNAME:Fairfield Women&#039;s Club
X-ORIGINAL-URL:https://fairfieldwomensclub.org
X-WR-CALDESC:Events for Fairfield Women&#039;s Club
REFRESH-INTERVAL;VALUE=DURATION:PT1H
X-Robots-Tag:noindex
X-PUBLISHED-TTL:PT1H
BEGIN:VTIMEZONE
TZID:UTC
BEGIN:STANDARD
TZOFFSETFROM:+0000
TZOFFSETTO:+0000
TZNAME:UTC
DTSTART:20190101T000000
END:STANDARD
END:VTIMEZONE
BEGIN:VEVENT
DTSTART;TZID=UTC:20190115T183000
DTEND;TZID=UTC:20190115T210000
DTSTAMP:20260419T145732
CREATED:20190105T223622Z
LAST-MODIFIED:20190105T223622Z
UID:548-1547577000-1547586000@fairfieldwomensclub.org
SUMMARY:January Club Meeting
DESCRIPTION:We are starting the new year off by getting out and learning about our neighborhood.  We will meet at 6:30pm at The Little Eclectic House and then head over to the d’vine wine bar to mingle with our members.  Please come and join us!
URL:https://fairfieldwomensclub.org/event/january-club-meeting/
LOCATION:The Eclectic House\, 15515 Mueschke Rd.\, Cypress\, 77433\, United States
END:VEVENT
END:VCALENDAR