BEGIN:VCALENDAR
VERSION:2.0
PRODID:-//Fairfield Women&#039;s Club - ECPv6.1.3//NONSGML v1.0//EN
CALSCALE:GREGORIAN
METHOD:PUBLISH
X-WR-CALNAME:Fairfield Women&#039;s Club
X-ORIGINAL-URL:https://fairfieldwomensclub.org
X-WR-CALDESC:Events for Fairfield Women&#039;s Club
REFRESH-INTERVAL;VALUE=DURATION:PT1H
X-Robots-Tag:noindex
X-PUBLISHED-TTL:PT1H
BEGIN:VTIMEZONE
TZID:UTC
BEGIN:STANDARD
TZOFFSETFROM:+0000
TZOFFSETTO:+0000
TZNAME:UTC
DTSTART:20220101T000000
END:STANDARD
END:VTIMEZONE
BEGIN:VEVENT
DTSTART;TZID=UTC:20220512T113000
DTEND;TZID=UTC:20220512T130000
DTSTAMP:20260419T142837
CREATED:20220105T203240Z
LAST-MODIFIED:20220415T165027Z
UID:1498-1652355000-1652360400@fairfieldwomensclub.org
SUMMARY:May Lunch Bunch
DESCRIPTION:
URL:https://fairfieldwomensclub.org/event/may-lunch-bunch-2/
LOCATION:Andy’s Bar & Grill on 290\, 27200 US 290\, Suite 160\, Cypress\, TX\, 77433
ATTACH;FMTTYPE=image/png:https://fairfieldwomensclub.org/wp-content/uploads/2022/01/FB-size-lunch-bunch-5.png
ORGANIZER;CN="Fairfield%20Women%27s%20Club":MAILTO:FairfieldWomensClub@gmail.com
END:VEVENT
END:VCALENDAR