BEGIN:VCALENDAR
VERSION:2.0
PRODID:-//Fairfield Women&#039;s Club - ECPv6.1.3//NONSGML v1.0//EN
CALSCALE:GREGORIAN
METHOD:PUBLISH
X-WR-CALNAME:Fairfield Women&#039;s Club
X-ORIGINAL-URL:https://fairfieldwomensclub.org
X-WR-CALDESC:Events for Fairfield Women&#039;s Club
REFRESH-INTERVAL;VALUE=DURATION:PT1H
X-Robots-Tag:noindex
X-PUBLISHED-TTL:PT1H
BEGIN:VTIMEZONE
TZID:UTC
BEGIN:STANDARD
TZOFFSETFROM:+0000
TZOFFSETTO:+0000
TZNAME:UTC
DTSTART:20220101T000000
END:STANDARD
END:VTIMEZONE
BEGIN:VEVENT
DTSTART;TZID=UTC:20220518T180000
DTEND;TZID=UTC:20220518T203000
DTSTAMP:20260419T142826
CREATED:20220105T204501Z
LAST-MODIFIED:20220415T164601Z
UID:1513-1652896800-1652905800@fairfieldwomensclub.org
SUMMARY:FWC Member Banquet
DESCRIPTION:Members – Please bring your $30 cash/check to the April General Meeting to reserve your spot for the May Banquet at Frio Grill.  Ticket will include your meal plus tip.
URL:https://fairfieldwomensclub.org/event/may-general-meeting-end-of-year-banquet/
LOCATION:Frio Grill\, 16410 Mueschke Rd\, Cypress\, TX\, 77433\, United States
ATTACH;FMTTYPE=image/png:https://fairfieldwomensclub.org/wp-content/uploads/2022/01/FB-size-lunch-bunch-6-1.png
ORGANIZER;CN="Fairfield%20Women%27s%20Club":MAILTO:FairfieldWomensClub@gmail.com
END:VEVENT
END:VCALENDAR