BEGIN:VCALENDAR
VERSION:2.0
PRODID:-//Fairfield Women&#039;s Club - ECPv6.1.3//NONSGML v1.0//EN
CALSCALE:GREGORIAN
METHOD:PUBLISH
X-ORIGINAL-URL:https://fairfieldwomensclub.org
X-WR-CALDESC:Events for Fairfield Women&#039;s Club
REFRESH-INTERVAL;VALUE=DURATION:PT1H
X-Robots-Tag:noindex
X-PUBLISHED-TTL:PT1H
BEGIN:VTIMEZONE
TZID:UTC
BEGIN:STANDARD
TZOFFSETFROM:+0000
TZOFFSETTO:+0000
TZNAME:UTC
DTSTART:20230101T000000
END:STANDARD
END:VTIMEZONE
BEGIN:VEVENT
DTSTART;TZID=UTC:20230111T113000
DTEND;TZID=UTC:20230111T130000
DTSTAMP:20260420T023545
CREATED:20221128T180425Z
LAST-MODIFIED:20221128T180425Z
UID:2093-1673436600-1673442000@fairfieldwomensclub.org
SUMMARY:January Lunch Bunch @ Texas Mesquite Grill
DESCRIPTION:Please join us for food\, fun & friendship on the 2nd Wednesday of each month from 11:30am – 1pm! \nWe switch up the restaurant every month and try to support local businesses around the Fairfield Community. Lunch Bunch is a great way to get to know FWC ladies in a smaller setting over a delicious meal. Members\, guests\, and new faces welcomed!!   \nNot on our mailing list?!?\nShoot us an email: fairfieldwomensclub@gmail.com
URL:https://fairfieldwomensclub.org/event/january-lunch-bunch-texas-mesquite-grill/
LOCATION:Texas Mesquite Grill\, 27104 Northwest Freeway\, Cypress\, TX\, 77429
END:VEVENT
END:VCALENDAR