BEGIN:VCALENDAR
VERSION:2.0
PRODID:-//Fairfield Women&#039;s Club - ECPv6.1.3//NONSGML v1.0//EN
CALSCALE:GREGORIAN
METHOD:PUBLISH
X-WR-CALNAME:Fairfield Women&#039;s Club
X-ORIGINAL-URL:https://fairfieldwomensclub.org
X-WR-CALDESC:Events for Fairfield Women&#039;s Club
REFRESH-INTERVAL;VALUE=DURATION:PT1H
X-Robots-Tag:noindex
X-PUBLISHED-TTL:PT1H
BEGIN:VTIMEZONE
TZID:UTC
BEGIN:STANDARD
TZOFFSETFROM:+0000
TZOFFSETTO:+0000
TZNAME:UTC
DTSTART:20230101T000000
END:STANDARD
END:VTIMEZONE
BEGIN:VEVENT
DTSTART;TZID=UTC:20230208T113000
DTEND;TZID=UTC:20230208T130000
DTSTAMP:20260420T041128
CREATED:20221128T180737Z
LAST-MODIFIED:20230118T164958Z
UID:2096-1675855800-1675861200@fairfieldwomensclub.org
SUMMARY:February Lunch Bunch @ Spring Creek Barbecue
DESCRIPTION:Please join us for food\, fun & friendship on the 2nd Wednesday of each month from 11:30am – 1pm! \nWe switch up the restaurant every month and try to support local businesses around the Fairfield Community. Lunch Bunch is a great way to get to know FWC ladies in a smaller setting over a delicious meal. Members\, guests\, and new faces welcomed!!   \nNot on our mailing list?!?\nShoot us an email: fairfieldwomensclub@gmail.com
URL:https://fairfieldwomensclub.org/event/february-lunch-bunch-killens-barbecue/
LOCATION:Spring Creek BBQ\, 25831 Northwest Freeway\, Cypress\, TX\, 77433
ATTACH;FMTTYPE=image/png:https://fairfieldwomensclub.org/wp-content/uploads/2022/11/FB-size-lunch-bunch-1.png
ORGANIZER;CN="Fairfield%20Women%27s%20Club":MAILTO:FairfieldWomensClub@gmail.com
END:VEVENT
END:VCALENDAR