BEGIN:VCALENDAR
VERSION:2.0
PRODID:-//Fairfield Women&#039;s Club - ECPv6.1.3//NONSGML v1.0//EN
CALSCALE:GREGORIAN
METHOD:PUBLISH
X-WR-CALNAME:Fairfield Women&#039;s Club
X-ORIGINAL-URL:https://fairfieldwomensclub.org
X-WR-CALDESC:Events for Fairfield Women&#039;s Club
REFRESH-INTERVAL;VALUE=DURATION:PT1H
X-Robots-Tag:noindex
X-PUBLISHED-TTL:PT1H
BEGIN:VTIMEZONE
TZID:UTC
BEGIN:STANDARD
TZOFFSETFROM:+0000
TZOFFSETTO:+0000
TZNAME:UTC
DTSTART:20230101T000000
END:STANDARD
END:VTIMEZONE
BEGIN:VEVENT
DTSTART;TZID=UTC:20230727T180000
DTEND;TZID=UTC:20230727T200000
DTSTAMP:20260422T103654
CREATED:20230707T182153Z
LAST-MODIFIED:20230707T183857Z
UID:2296-1690480800-1690488000@fairfieldwomensclub.org
SUMMARY:FWC Social at Yoko Japanese Kitchen
DESCRIPTION:Join the Fairfield Women’s Club for an evening of Japanese stir fry\, sushi\, drinks\, and fellowship.\nStop by for a drink\, dinner\, or just to say hello. Cash bar and food service available for purchase.\n\nMembers\, guests\, and new faces welcome!\n\nAll adult female Fairfield residents are invited to join the Fairfield Women’s Club. We are a non-profit volunteer organization and are always looking for bright\, shining faces ready to have some fun while doing a little work to support our Fairfield and greater Cypress/Houston Community.\n\nNo on our mailing list yet?!? Shoot us an email at fairfieldwomensclub@gmail.com
URL:https://fairfieldwomensclub.org/event/fwc-social-at-yoko-japanese-kitchen/
LOCATION:Yoko Japanese Kitchen\, 28404 US 290\, Suite G11\, Cypress\, 77433\, United States
ATTACH;FMTTYPE=image/png:https://fairfieldwomensclub.org/wp-content/uploads/2023/07/Yoko.png
END:VEVENT
END:VCALENDAR