BEGIN:VCALENDAR
VERSION:2.0
PRODID:-//Fairfield Women&#039;s Club - ECPv6.1.3//NONSGML v1.0//EN
CALSCALE:GREGORIAN
METHOD:PUBLISH
X-WR-CALNAME:Fairfield Women&#039;s Club
X-ORIGINAL-URL:https://fairfieldwomensclub.org
X-WR-CALDESC:Events for Fairfield Women&#039;s Club
REFRESH-INTERVAL;VALUE=DURATION:PT1H
X-Robots-Tag:noindex
X-PUBLISHED-TTL:PT1H
BEGIN:VTIMEZONE
TZID:UTC
BEGIN:STANDARD
TZOFFSETFROM:+0000
TZOFFSETTO:+0000
TZNAME:UTC
DTSTART:20230101T000000
END:STANDARD
END:VTIMEZONE
BEGIN:VEVENT
DTSTART;TZID=UTC:20231011T113000
DTEND;TZID=UTC:20231011T130000
DTSTAMP:20260422T155024
CREATED:20230707T180025Z
LAST-MODIFIED:20230924T205812Z
UID:2281-1697023800-1697029200@fairfieldwomensclub.org
SUMMARY:October Lunch Bunch @ House of Pies
DESCRIPTION:Please join us for food\, fun & friendship on the 2nd Wednesday of each month from 11:30am – 1pm!\nWe switch up the restaurant every month and try to support local businesses around the Fairfield Community. Lunch Bunch is a great way to get to know FWC ladies in a smaller setting over a delicious meal. Members\, guests\, and new faces welcomed!! \nNot on our mailing list?!? \nShoot us an email: fairfieldwomensclub@gmail.com
URL:https://fairfieldwomensclub.org/event/october-lunch-bunch-3/
LOCATION:House of Pies\, 25686 Northwest Freeway\, Cypress\, Texas\, 77429\, United States
ATTACH;FMTTYPE=image/png:https://fairfieldwomensclub.org/wp-content/uploads/2023/07/FB-size-lunch-bunch-13.png
ORGANIZER;CN="Fairfield%20Women%27s%20Club":MAILTO:FairfieldWomensClub@gmail.com
END:VEVENT
END:VCALENDAR