BEGIN:VCALENDAR
VERSION:2.0
PRODID:-//Fairfield Women&#039;s Club - ECPv6.1.3//NONSGML v1.0//EN
CALSCALE:GREGORIAN
METHOD:PUBLISH
X-WR-CALNAME:Fairfield Women&#039;s Club
X-ORIGINAL-URL:https://fairfieldwomensclub.org
X-WR-CALDESC:Events for Fairfield Women&#039;s Club
REFRESH-INTERVAL;VALUE=DURATION:PT1H
X-Robots-Tag:noindex
X-PUBLISHED-TTL:PT1H
BEGIN:VTIMEZONE
TZID:UTC
BEGIN:STANDARD
TZOFFSETFROM:+0000
TZOFFSETTO:+0000
TZNAME:UTC
DTSTART:20240101T000000
END:STANDARD
END:VTIMEZONE
BEGIN:VEVENT
DTSTART;TZID=UTC:20240406T070000
DTEND;TZID=UTC:20240406T140000
DTSTAMP:20260423T005230
CREATED:20230902T203821Z
LAST-MODIFIED:20240203T145829Z
UID:2646-1712386800-1712412000@fairfieldwomensclub.org
SUMMARY:Fairfield Resident SPRING Garage Sale Fundraiser
DESCRIPTION:This community-wide event is taking place RAIN or SHINE on SATURDAY\,  April 6th\, 2024 –  7am-3pm.  \nIf you are a Fairfield resident and want to host a garage sale in the Fall of 2023\, this is the time!  Simply register your home online thru the FWC and then set up in your own garage\, driveway or yard on the day of the event.  \nThe Fairfield Resident Garage Sale Fundraiser is hosted by the Fairfield Women’s Club in Spring and Fall and the cost to register is $25. Funds raised from the $25 registration donation go back into our community and to local charities.  \n⭐️Although the Fairfield HOA typically prohibits garage sales\, they made an exception for FWC since the neighborhood Fall & Spring Resident Garage Sale is a community fundraiser for our non-profit organization and the proceeds directly benefit our community. ⭐️
URL:https://fairfieldwomensclub.org/event/fairfield-resident-spring-garage-sale-fundraiser/
LOCATION:TX
ORGANIZER;CN="Fairfield%20Women%27s%20Club":MAILTO:FairfieldWomensClub@gmail.com
END:VEVENT
END:VCALENDAR