BEGIN:VCALENDAR
VERSION:2.0
PRODID:-//Fairfield Women&#039;s Club - ECPv6.1.3//NONSGML v1.0//EN
CALSCALE:GREGORIAN
METHOD:PUBLISH
X-ORIGINAL-URL:https://fairfieldwomensclub.org
X-WR-CALDESC:Events for Fairfield Women&#039;s Club
REFRESH-INTERVAL;VALUE=DURATION:PT1H
X-Robots-Tag:noindex
X-PUBLISHED-TTL:PT1H
BEGIN:VTIMEZONE
TZID:UTC
BEGIN:STANDARD
TZOFFSETFROM:+0000
TZOFFSETTO:+0000
TZNAME:UTC
DTSTART:20240101T000000
END:STANDARD
END:VTIMEZONE
BEGIN:VEVENT
DTSTART;TZID=UTC:20240416T190000
DTEND;TZID=UTC:20240416T203000
DTSTAMP:20260423T005228
CREATED:20230902T203416Z
LAST-MODIFIED:20230902T203416Z
UID:2641-1713294000-1713299400@fairfieldwomensclub.org
SUMMARY:April General Membership Meeting
DESCRIPTION:Our monthly meetings are typically held the 3rd Tuesday of the month at the Bradford Creek Clubhouse/Pool from 7pm – 9pm. 16011 Fairfield Green Circle\, Cypress\, TX 77433. \nThe General Membership meeting includes a brief business meeting and then we typically have a short program or activity that changes each month. We also have a time for socializing and enjoying the great food and drinks provided by our members. \nAll adult female Fairfield residents are welcome at FWC! Please join us at the next meeting to see what we are all about! \nFeel free to send us your email so we can add you to our mailing list – FairfieldWomensClub@gmail.com\nand don’t forget to visit our Facebook Page for event updates.
URL:https://fairfieldwomensclub.org/event/april-general-membership-meeting/
LOCATION:Bradford Creek Clubhouse\, 16011 Fairfield Green Circle\, Cypress\, TX\, 77433\, United States
ATTACH;FMTTYPE=image/png:https://fairfieldwomensclub.org/wp-content/uploads/2023/07/FB-size.FWC-General-Meeting.png
ORGANIZER;CN="Fairfield%20Women%27s%20Club":MAILTO:FairfieldWomensClub@gmail.com
END:VEVENT
END:VCALENDAR