BEGIN:VCALENDAR
VERSION:2.0
PRODID:-//Fairfield Women&#039;s Club - ECPv6.1.3//NONSGML v1.0//EN
CALSCALE:GREGORIAN
METHOD:PUBLISH
X-ORIGINAL-URL:https://fairfieldwomensclub.org
X-WR-CALDESC:Events for Fairfield Women&#039;s Club
REFRESH-INTERVAL;VALUE=DURATION:PT1H
X-Robots-Tag:noindex
X-PUBLISHED-TTL:PT1H
BEGIN:VTIMEZONE
TZID:UTC
BEGIN:STANDARD
TZOFFSETFROM:+0000
TZOFFSETTO:+0000
TZNAME:UTC
DTSTART:20240101T000000
END:STANDARD
END:VTIMEZONE
BEGIN:VEVENT
DTSTART;TZID=UTC:20240704T090000
DTEND;TZID=UTC:20240704T100000
DTSTAMP:20260423T055252
CREATED:20240617T172203Z
LAST-MODIFIED:20240617T172203Z
UID:2865-1720083600-1720087200@fairfieldwomensclub.org
SUMMARY:Independence Day Parade
DESCRIPTION:Celebrate Independence Day 2024 with your Fairfield family\, friends\, and neighbors at the 4th of July Parade!! Parade begins at 9am at Ault Elementary School ending at Central Park Clubhouse.  (We will not travel through the  Fairfield Village South section of the neighborhood this year). \nAnyone is welcome to participate in the parade! Decorate your car\, truck\, trailer\, golf cart\, bicycle\, scooter\, stroller\, etc. or if you are walking…decorate yourself\, with your best red\, white and blue sparkle!! \nTo participate: no need to register\, just show up at Ault Elementary at 8:30am on July 4th\, ready to roll!! Participants will be asked to line-up according to “vehicle”. If you plan to walk\, please understand you will be asked to lined up near the end of the parade procession to ensure the safety of all participants!! 🙂  \nQuestions?!? Contact the FWC via email at fairfieldwomensclub@gmail.com.
URL:https://fairfieldwomensclub.org/event/independence-day-parade-2/
LOCATION:TX
ATTACH;FMTTYPE=image/png:https://fairfieldwomensclub.org/wp-content/uploads/2024/06/4th-at-Fairfield-Parade-2022.png
END:VEVENT
END:VCALENDAR