BEGIN:VCALENDAR
VERSION:2.0
PRODID:-//Fairfield Women&#039;s Club - ECPv6.1.3//NONSGML v1.0//EN
CALSCALE:GREGORIAN
METHOD:PUBLISH
X-WR-CALNAME:Fairfield Women&#039;s Club
X-ORIGINAL-URL:https://fairfieldwomensclub.org
X-WR-CALDESC:Events for Fairfield Women&#039;s Club
REFRESH-INTERVAL;VALUE=DURATION:PT1H
X-Robots-Tag:noindex
X-PUBLISHED-TTL:PT1H
BEGIN:VTIMEZONE
TZID:UTC
BEGIN:STANDARD
TZOFFSETFROM:+0000
TZOFFSETTO:+0000
TZNAME:UTC
DTSTART:20240101T000000
END:STANDARD
END:VTIMEZONE
BEGIN:VEVENT
DTSTART;TZID=UTC:20241207T090000
DTEND;TZID=UTC:20241207T140000
DTSTAMP:20260425T105139
CREATED:20240815T204632Z
LAST-MODIFIED:20240815T204720Z
UID:3033-1733562000-1733580000@fairfieldwomensclub.org
SUMMARY:Fairfield Christmas Market
DESCRIPTION:The Fairfield Christmas Market will be held on the first weekend of December\, Saturday\, December 7\, 2024 from 9am – 2pm at Good Shepherd Church (20155 Cypresswood Drive\, Cypress\, TX 77433). We will have 105+ vendor booth spaces and multiple food trucks will be parked on site.  Vendor tents will be arranged OUTSIDE in the parking lot near the 290 feeder. This is a Rain or Shine event. \nVendor items in last year’s market include: Christmas crafts/collectables\, Christmas books\, wreaths\, swags\, handmade products\, home decor\, door hangars\, porch leaners\, pottery\, hand-poured candles\, rosary beads\, crochet and macramé items\, custom artwork\, wooden signage\, metal artwork\, hand sewn children’s costumes\, hand-made quilts\, a variety of handmade jewelry\, silver/gold jewelry\, boutique clothing\, custom t-shirts & hats\, children’s clothing\, children’s bows and hats\, baby items\, children’s toys and books\, puzzles\, essential oils\, car freshies\, hand painted rocks\, local honey and beeswax products\, resin insulated cups\, cutting boards\, wood burned art\, hand made fishing lures\, Texas petroleum souvenirs\, soaps\, multiple beauty and skin care products as well as a variety of homemade bread\, jams\, jellies\, cakes\, cookies\, chocolate covered strawberries\, cupcakes\, hot cocoa\, coffee\, and sweets – perfect for early Christmas shopping! \nWe ONLY accept payments for Vendor Booths via the FWC PayPal Page and thru check via mail to the FWC Post Office Box (The Fairfield Women’s Club\, 16055 Mason Road Cypress\, TX 77433). DO NOT mail or transfer money to an individual person claiming to be part of the FWC. The FWC DOES NOT solicit money via Facebook posts or personal email addresses.
URL:https://fairfieldwomensclub.org/event/fairfield-christmas-market-3/
LOCATION:Good Shepherd Church Parking Lot\, 20155 Cypresswood Drive\, Cypress\, TX\, 77433
ATTACH;FMTTYPE=image/png:https://fairfieldwomensclub.org/wp-content/uploads/2024/06/FWC-2022-Xmas-Parade-7.png
ORGANIZER;CN="Fairfield%20Women%27s%20Club":MAILTO:FairfieldWomensClub@gmail.com
END:VEVENT
END:VCALENDAR