BEGIN:VCALENDAR
VERSION:2.0
PRODID:-//Fairfield Women&#039;s Club - ECPv6.1.3//NONSGML v1.0//EN
CALSCALE:GREGORIAN
METHOD:PUBLISH
X-WR-CALNAME:Fairfield Women&#039;s Club
X-ORIGINAL-URL:https://fairfieldwomensclub.org
X-WR-CALDESC:Events for Fairfield Women&#039;s Club
REFRESH-INTERVAL;VALUE=DURATION:PT1H
X-Robots-Tag:noindex
X-PUBLISHED-TTL:PT1H
BEGIN:VTIMEZONE
TZID:UTC
BEGIN:STANDARD
TZOFFSETFROM:+0000
TZOFFSETTO:+0000
TZNAME:UTC
DTSTART:20260101T000000
END:STANDARD
END:VTIMEZONE
BEGIN:VEVENT
DTSTART;TZID=UTC:20260212T190000
DTEND;TZID=UTC:20260212T200000
DTSTAMP:20260424T174842
CREATED:20260211T015120Z
LAST-MODIFIED:20260211T015120Z
UID:3207-1770922800-1770926400@fairfieldwomensclub.org
SUMMARY:Game Night @ Carol Underwood's House
DESCRIPTION:
URL:https://fairfieldwomensclub.org/event/game-night-carol-underwoods-house/
LOCATION:Carol Underwood’s House\, 14830 Blue Egret Dr.\, Cypress\, TX\, 77433\, United States
END:VEVENT
END:VCALENDAR