BEGIN:VCALENDAR
VERSION:2.0
PRODID:-//Fairfield Women&#039;s Club - ECPv6.1.3//NONSGML v1.0//EN
CALSCALE:GREGORIAN
METHOD:PUBLISH
X-ORIGINAL-URL:https://fairfieldwomensclub.org
X-WR-CALDESC:Events for Fairfield Women&#039;s Club
REFRESH-INTERVAL;VALUE=DURATION:PT1H
X-Robots-Tag:noindex
X-PUBLISHED-TTL:PT1H
BEGIN:VTIMEZONE
TZID:UTC
BEGIN:STANDARD
TZOFFSETFROM:+0000
TZOFFSETTO:+0000
TZNAME:UTC
DTSTART:20260101T000000
END:STANDARD
END:VTIMEZONE
BEGIN:VEVENT
DTSTART;TZID=UTC:20260326T190000
DTEND;TZID=UTC:20260326T200000
DTSTAMP:20260424T162817
CREATED:20260211T015217Z
LAST-MODIFIED:20260211T015217Z
UID:3210-1774551600-1774555200@fairfieldwomensclub.org
SUMMARY:Bunco Night @ TBD
DESCRIPTION:
URL:https://fairfieldwomensclub.org/event/bunco-night-tbd/
LOCATION:TX
END:VEVENT
END:VCALENDAR