BEGIN:VCALENDAR
VERSION:2.0
PRODID:-//Fairfield Women&#039;s Club - ECPv6.1.3//NONSGML v1.0//EN
CALSCALE:GREGORIAN
METHOD:PUBLISH
X-WR-CALNAME:Fairfield Women&#039;s Club
X-ORIGINAL-URL:https://fairfieldwomensclub.org
X-WR-CALDESC:Events for Fairfield Women&#039;s Club
REFRESH-INTERVAL;VALUE=DURATION:PT1H
X-Robots-Tag:noindex
X-PUBLISHED-TTL:PT1H
BEGIN:VTIMEZONE
TZID:UTC
BEGIN:STANDARD
TZOFFSETFROM:+0000
TZOFFSETTO:+0000
TZNAME:UTC
DTSTART:20180101T000000
END:STANDARD
END:VTIMEZONE
BEGIN:VEVENT
DTSTART;TZID=UTC:20180614T113000
DTEND;TZID=UTC:20180614T130000
DTSTAMP:20260420T003909
CREATED:20180528T214407Z
LAST-MODIFIED:20180528T214407Z
UID:415-1528975800-1528981200@fairfieldwomensclub.org
SUMMARY:June Lunch Bunch
DESCRIPTION:
URL:https://fairfieldwomensclub.org/event/june-lunch-bunch/
LOCATION:Yokohamaya Japanese Restaurant\, 270200 US 290\, Cypress\, TX\, 77429\, United States
ORGANIZER;CN="Fairfield%20Women%27s%20Club":MAILTO:FairfieldWomensClub@gmail.com
END:VEVENT
BEGIN:VEVENT
DTSTART;TZID=UTC:20180619T190000
DTEND;TZID=UTC:20180619T210000
DTSTAMP:20260420T003909
CREATED:20180528T214008Z
LAST-MODIFIED:20180528T214712Z
UID:413-1529434800-1529442000@fairfieldwomensclub.org
SUMMARY:June Meeting
DESCRIPTION:
URL:https://fairfieldwomensclub.org/event/june-meeting/
LOCATION:Bradford Creek Clubhouse\, 16011 Fairfield Green Circle\, Cypress\, TX\, 77433\, United States
ORGANIZER;CN="Fairfield%20Women%27s%20Club":MAILTO:FairfieldWomensClub@gmail.com
END:VEVENT
END:VCALENDAR