BEGIN:VCALENDAR
VERSION:2.0
PRODID:-//Fairfield Women&#039;s Club - ECPv6.1.3//NONSGML v1.0//EN
CALSCALE:GREGORIAN
METHOD:PUBLISH
X-ORIGINAL-URL:https://fairfieldwomensclub.org
X-WR-CALDESC:Events for Fairfield Women&#039;s Club
REFRESH-INTERVAL;VALUE=DURATION:PT1H
X-Robots-Tag:noindex
X-PUBLISHED-TTL:PT1H
BEGIN:VTIMEZONE
TZID:UTC
BEGIN:STANDARD
TZOFFSETFROM:+0000
TZOFFSETTO:+0000
TZNAME:UTC
DTSTART:20180101T000000
END:STANDARD
END:VTIMEZONE
BEGIN:VEVENT
DTSTART;TZID=UTC:20181103T180000
DTEND;TZID=UTC:20181103T210000
DTSTAMP:20260419T163228
CREATED:20180909T154713Z
LAST-MODIFIED:20180909T154713Z
UID:495-1541268000-1541278800@fairfieldwomensclub.org
SUMMARY:Movie Night
DESCRIPTION:
URL:https://fairfieldwomensclub.org/event/movie-night/
LOCATION:Keith Elementary School\, 20550 Fairfield Green Blvd\, Cypress\, TX\, 77433\, United States
ORGANIZER;CN="Fairfield%20Women%27s%20Club":MAILTO:FairfieldWomensClub@gmail.com
END:VEVENT
BEGIN:VEVENT
DTSTART;TZID=UTC:20181108T113000
DTEND;TZID=UTC:20181108T130000
DTSTAMP:20260419T163228
CREATED:20181107T220622Z
LAST-MODIFIED:20181107T220622Z
UID:534-1541676600-1541682000@fairfieldwomensclub.org
SUMMARY:November Lunch Bunch
DESCRIPTION:
URL:https://fairfieldwomensclub.org/event/november-lunch-bunch/
LOCATION:Andy’s Kitchen Cypress\, 15202 Mason Rd.\, Cypress\, TX\, 77433\, United States
END:VEVENT
BEGIN:VEVENT
DTSTART;TZID=UTC:20181127T190000
DTEND;TZID=UTC:20181127T210000
DTSTAMP:20260419T163228
CREATED:20181107T220755Z
LAST-MODIFIED:20181107T220755Z
UID:537-1543345200-1543352400@fairfieldwomensclub.org
SUMMARY:November Club Meeting
DESCRIPTION:
URL:https://fairfieldwomensclub.org/event/november-club-meeting/
LOCATION:Bradford Creek Clubhouse\, 16011 Fairfield Green Circle\, Cypress\, TX\, 77433\, United States
END:VEVENT
END:VCALENDAR