BEGIN:VCALENDAR
VERSION:2.0
PRODID:-//Fairfield Women&#039;s Club - ECPv6.1.3//NONSGML v1.0//EN
CALSCALE:GREGORIAN
METHOD:PUBLISH
X-ORIGINAL-URL:https://fairfieldwomensclub.org
X-WR-CALDESC:Events for Fairfield Women&#039;s Club
REFRESH-INTERVAL;VALUE=DURATION:PT1H
X-Robots-Tag:noindex
X-PUBLISHED-TTL:PT1H
BEGIN:VTIMEZONE
TZID:UTC
BEGIN:STANDARD
TZOFFSETFROM:+0000
TZOFFSETTO:+0000
TZNAME:UTC
DTSTART:20220101T000000
END:STANDARD
END:VTIMEZONE
BEGIN:VEVENT
DTSTART;TZID=UTC:20220704T090000
DTEND;TZID=UTC:20220704T100000
DTSTAMP:20260419T154541
CREATED:20220415T165505Z
LAST-MODIFIED:20220624T155633Z
UID:1709-1656925200-1656928800@fairfieldwomensclub.org
SUMMARY:4th of July Parade
DESCRIPTION:Celebrate Independence Day 2022 with your Fairfield family\, friends\, and neighbors at the 4th of July Parade! \nThe parade begins at 9am and travels through the neighborhood from Ault Elementary\, past Salyards Middle School\, ending at Central Park. \nAnyone is welcome to participate in the parade! Decorate your car\, truck\, trailer\, golf cart\, bicycle\, scooter\, stroller\, etc. or if you are walking…decorate yourself\, with your best red\, white and blue sparkle!! \nTo participate – no need to register\, just show up at Ault Elementary at 8:30am on July 4th to line up and let the fun begin! \nSee FWC Fourth @ Fairfield page for more information. \n \n \n \n  \n 
URL:https://fairfieldwomensclub.org/event/4th-of-july-parade-4th-fairfield/
LOCATION:Ault Elementary School\, 21010 Maple Village Drive\, Cypress\, TX\, 77433\, United States
ATTACH;FMTTYPE=image/png:https://fairfieldwomensclub.org/wp-content/uploads/2022/04/1.png
ORGANIZER;CN="Fairfield%20Women%27s%20Club":MAILTO:FairfieldWomensClub@gmail.com
END:VEVENT
BEGIN:VEVENT
DTSTART;TZID=UTC:20220704T100000
DTEND;TZID=UTC:20220704T130000
DTSTAMP:20260419T154541
CREATED:20220514T140256Z
LAST-MODIFIED:20220515T222418Z
UID:1756-1656928800-1656939600@fairfieldwomensclub.org
SUMMARY:4th @ Fairfield
DESCRIPTION:Celebrate Independence Day 2022 with your Fairfield family\, friends\, and neighbors at the 4th @ Fairfield event!! This is a fun community event hosted by the Fairfield HOA and the Fairfield Women’s Club for our Fairfield families\, friends\, and neighbors. \nThe 4th @ Fairfield event will begin after the parade and run from 10am-1pm at Salyards Middle School. There will be activities for the kids\, bouncy houses\, food trucks\, music\, and more. \nMultiple businesses and organizations will be inside handing out goodies\, hosting activities for the kids\, and spreading good cheer. \nIf you  would like to reserve an activity booth\, please the Fourth @ Fairfield page for more information. The more activity booths we have\, the better this event will be!! Let’s get creative and see how many fun activities we can provide for the fabulous families of Fairfield and our surrounding community!!
URL:https://fairfieldwomensclub.org/event/4th-fairfield/
LOCATION:Salyards Middle School\, 21757 Fairfield Place\, Cypress\, TX\, 77433
ATTACH;FMTTYPE=image/png:https://fairfieldwomensclub.org/wp-content/uploads/2022/05/4th-at-Fairfield-Parade-1.png
ORGANIZER;CN="Fairfield%20Women%27s%20Club":MAILTO:FairfieldWomensClub@gmail.com
END:VEVENT
BEGIN:VEVENT
DTSTART;TZID=UTC:20220714T113000
DTEND;TZID=UTC:20220714T130000
DTSTAMP:20260419T154541
CREATED:20220616T182813Z
LAST-MODIFIED:20220616T182813Z
UID:1781-1657798200-1657803600@fairfieldwomensclub.org
SUMMARY:July Lunch Bunch
DESCRIPTION:
URL:https://fairfieldwomensclub.org/event/july-lunch-bunch-2/
LOCATION:The Toasted Yolk Cafe\, 27008 Northwest Freeway\, Suite 100\, Cypress\, TX\, 77433\, United States
ATTACH;FMTTYPE=image/png:https://fairfieldwomensclub.org/wp-content/uploads/2022/06/FB-size-lunch-bunch-7.png
ORGANIZER;CN="Fairfield%20Women%27s%20Club":MAILTO:FairfieldWomensClub@gmail.com
END:VEVENT
BEGIN:VEVENT
DTSTART;TZID=UTC:20220721T180000
DTEND;TZID=UTC:20220721T203000
DTSTAMP:20260419T154541
CREATED:20220616T182954Z
LAST-MODIFIED:20220715T161901Z
UID:1785-1658426400-1658435400@fairfieldwomensclub.org
SUMMARY:July Social - Happy Hour
DESCRIPTION:Save the Date!!  In lieu of a General Meeting\, we are having a social event in July!  Members and guests are invited to bring their spouse or significant other. We will meet at Longhorn Steakhouse near the Houston Premium Outlets at 6pm on Thursday\, July 21st.  Food and drinks will be available for purchase. Let’s share a fun evening of foods\, friends\, and fun! We hope to see everyone there!
URL:https://fairfieldwomensclub.org/event/july-social-happy-hour/
LOCATION:Longhorn Steak House\, 29120 US-290\, Cypress\, TX\, 77433\, United States
ATTACH;FMTTYPE=image/png:https://fairfieldwomensclub.org/wp-content/uploads/2022/06/Copy-of-Fairfield-Womens-Club-September-General-Meeting-2.png
ORGANIZER;CN="Fairfield%20Women%27s%20Club":MAILTO:FairfieldWomensClub@gmail.com
END:VEVENT
END:VCALENDAR