BEGIN:VCALENDAR
VERSION:2.0
PRODID:-//Fairfield Women&#039;s Club - ECPv6.1.3//NONSGML v1.0//EN
CALSCALE:GREGORIAN
METHOD:PUBLISH
X-WR-CALNAME:Fairfield Women&#039;s Club
X-ORIGINAL-URL:https://fairfieldwomensclub.org
X-WR-CALDESC:Events for Fairfield Women&#039;s Club
REFRESH-INTERVAL;VALUE=DURATION:PT1H
X-Robots-Tag:noindex
X-PUBLISHED-TTL:PT1H
BEGIN:VTIMEZONE
TZID:UTC
BEGIN:STANDARD
TZOFFSETFROM:+0000
TZOFFSETTO:+0000
TZNAME:UTC
DTSTART:20220101T000000
END:STANDARD
END:VTIMEZONE
BEGIN:VEVENT
DTSTART;TZID=UTC:20220914T113000
DTEND;TZID=UTC:20220914T130000
DTSTAMP:20260419T184742
CREATED:20220726T192804Z
LAST-MODIFIED:20220803T160550Z
UID:1873-1663155000-1663160400@fairfieldwomensclub.org
SUMMARY:September Lunch Bunch
DESCRIPTION:Please join us for food\, fun & friendship on the 2nd Wednesday of each month from 11:30am – 1pm! We switch up the restaurant every month and try to support local businesses around the Fairfield Community. \nLunch Bunch is a great way to get to know FWC ladies in a smaller setting over a delicious meal. Members\, guests\, and new faces welcomed!! \nNot on our mailing list?!? Shoot us an email at fairfieldwomensclub@gmail.com
URL:https://fairfieldwomensclub.org/event/september-lunch-bunch-2/
LOCATION:TX
ATTACH;FMTTYPE=image/png:https://fairfieldwomensclub.org/wp-content/uploads/2022/07/FB-size-lunch-bunch-11.png
ORGANIZER;CN="Fairfield%20Women%27s%20Club":MAILTO:FairfieldWomensClub@gmail.com
END:VEVENT
BEGIN:VEVENT
DTSTART;TZID=UTC:20220920T190000
DTEND;TZID=UTC:20220920T210000
DTSTAMP:20260419T184742
CREATED:20220726T192411Z
LAST-MODIFIED:20220919T190519Z
UID:1866-1663700400-1663707600@fairfieldwomensclub.org
SUMMARY:September General Meeting - Game Night
DESCRIPTION:Our September General Meeting will be a game night!!  Woo hoo!! \nBring $3 in cash so you can play the Left-Center-Right dice game. There will be cash winners!! \nWe will have a short business meeting before the game begins as well as time for socializing and enjoying the great food and drinks provided by our members. \nAll adult female Fairfield residents are welcome at FWC!  \nWe hope members and guests will join us for a fun night! The more the merrier! \n  \nOur monthly meetings are typically held the 3rd Tuesday of each month at the Bradford Creek Clubhouse/Pool from 7pm – 9pm.\n16011 Fairfield Green Circle\, Cypress\, TX 77433
URL:https://fairfieldwomensclub.org/event/september-general-meeting/
LOCATION:Bradford Creek Clubhouse\, 16011 Fairfield Green Circle\, Cypress\, TX\, 77433\, United States
ATTACH;FMTTYPE=image/png:https://fairfieldwomensclub.org/wp-content/uploads/2022/09/Game-night-Invitation-.png
ORGANIZER;CN="Fairfield%20Women%27s%20Club":MAILTO:FairfieldWomensClub@gmail.com
END:VEVENT
BEGIN:VEVENT
DTSTART;TZID=UTC:20220922T180000
DTEND;TZID=UTC:20220922T200000
DTSTAMP:20260419T184742
CREATED:20220914T210405Z
LAST-MODIFIED:20220914T210405Z
UID:1990-1663869600-1663876800@fairfieldwomensclub.org
SUMMARY:FWC Fall Social @ Yoko Japanese Kitchen
DESCRIPTION:Join the Fairfield Women’s Club for an evening of sushi\, bento bowls\, drinks\, and fellowship. Stop by for a drink\, dinner\, or just to say hello. Cash bar and food service available for purchase.\n\nMembers\, guests\, and new faces welcome!\n\nAll adult female Fairfield and Lakes of Fairhaven residents are welcome to join the Fairfield Women’s Club.
URL:https://fairfieldwomensclub.org/event/fwc-fall-social-yoko-japanese-kitchen/
LOCATION:Yoko Japanese Kitchen\, 28404 US 290\, Suite G11\, Cypress\, 77433\, United States
ATTACH;FMTTYPE=image/png:https://fairfieldwomensclub.org/wp-content/uploads/2022/09/Copy-of-Fairfield-Womens-Club-September-General-Meeting-6.png
ORGANIZER;CN="Fairfield%20Women%27s%20Club":MAILTO:FairfieldWomensClub@gmail.com
END:VEVENT
END:VCALENDAR