BEGIN:VCALENDAR
VERSION:2.0
PRODID:-//Fairfield Women&#039;s Club - ECPv6.1.3//NONSGML v1.0//EN
CALSCALE:GREGORIAN
METHOD:PUBLISH
X-WR-CALNAME:Fairfield Women&#039;s Club
X-ORIGINAL-URL:https://fairfieldwomensclub.org
X-WR-CALDESC:Events for Fairfield Women&#039;s Club
REFRESH-INTERVAL;VALUE=DURATION:PT1H
X-Robots-Tag:noindex
X-PUBLISHED-TTL:PT1H
BEGIN:VTIMEZONE
TZID:UTC
BEGIN:STANDARD
TZOFFSETFROM:+0000
TZOFFSETTO:+0000
TZNAME:UTC
DTSTART:20230101T000000
END:STANDARD
END:VTIMEZONE
BEGIN:VEVENT
DTSTART;TZID=UTC:20230401T070000
DTEND;TZID=UTC:20230401T140000
DTSTAMP:20260420T055346
CREATED:20220726T193537Z
LAST-MODIFIED:20220803T174131Z
UID:1885-1680332400-1680357600@fairfieldwomensclub.org
SUMMARY:Fairfield Resident Spring Garage Sale Fundraiser
DESCRIPTION:This community-wide event is taking place RAIN or SHINE on SATURDAY\,  April 1st\, 7am-2pm.  \nIf you are a Fairfield resident and want to host a garage sale in the Spring of 2023\, this is the time!  Simply register your home online thru the FWC and then set up in your own garage\, driveway or yard on the day of the event.  \nThe Fairfield Resident Garage Sale Fundraiser is hosted by the Fairfield Women’s Club in Spring and Fall and the cost to register is $25. Funds raised from the $25 registration cost go back into our community and to local charities.  \nRegister at https://fairfieldwomensclub.org/garage-sale-registration-form/ \nQuestions?!?! Check our the FWC website https://fairfieldwomensclub.org/fairfield-garage-sale/  or email us at: FairfieldWomensClub@gmail.com. \n⭐️Although the Fairfield HOA typically prohibits garage sales\, they made an exception for FWC since the neighborhood Fall & Spring Resident Garage Sale is a community fundraiser for our non-profit organization and the proceeds directly benefit our community. ⭐️
URL:https://fairfieldwomensclub.org/event/fairfield-spring-garage-sale-fundraiser/
LOCATION:TX
ATTACH;FMTTYPE=image/png:https://fairfieldwomensclub.org/wp-content/uploads/2022/07/940x748-FWC-Garage-Sale-5.png
ORGANIZER;CN="Fairfield%20Women%27s%20Club":MAILTO:FairfieldWomensClub@gmail.com
END:VEVENT
BEGIN:VEVENT
DTSTART;TZID=UTC:20230412T113000
DTEND;TZID=UTC:20230412T130000
DTSTAMP:20260420T055346
CREATED:20221128T181549Z
LAST-MODIFIED:20230310T033042Z
UID:2116-1681299000-1681304400@fairfieldwomensclub.org
SUMMARY:April Lunch Bunch @ Local Table
DESCRIPTION:Please join us for food\, fun & friendship on the 2nd Wednesday of each month from 11:30am – 1pm! \nWe switch up the restaurant every month and try to support local businesses around the Fairfield Community. Lunch Bunch is a great way to get to know FWC ladies in a smaller setting over a delicious meal. Members\, guests\, and new faces welcomed!!   \nNot on our mailing list?!? Shoot us an email: fairfieldwomensclub@gmail.com
URL:https://fairfieldwomensclub.org/event/april-lunch-bunch-4/
LOCATION:TBD
ORGANIZER;CN="Fairfield%20Women%27s%20Club":MAILTO:FairfieldWomensClub@gmail.com
END:VEVENT
BEGIN:VEVENT
DTSTART;TZID=UTC:20230418T190000
DTEND;TZID=UTC:20230418T203000
DTSTAMP:20260420T055346
CREATED:20221128T181056Z
LAST-MODIFIED:20221128T182011Z
UID:2105-1681844400-1681849800@fairfieldwomensclub.org
SUMMARY:April General Membership Meeting
DESCRIPTION:
URL:https://fairfieldwomensclub.org/event/april-general-meeting-2/
LOCATION:Bradford Creek Clubhouse\, 16011 Fairfield Green Circle\, Cypress\, TX\, 77433\, United States
ORGANIZER;CN="Fairfield%20Women%27s%20Club":MAILTO:FairfieldWomensClub@gmail.com
END:VEVENT
BEGIN:VEVENT
DTSTART;TZID=UTC:20230423T130000
DTEND;TZID=UTC:20230423T143000
DTSTAMP:20260420T055346
CREATED:20221128T180009Z
LAST-MODIFIED:20230406T213740Z
UID:2091-1682254800-1682260200@fairfieldwomensclub.org
SUMMARY:Mother / Daughter Graduation Tea - Class of 2023
DESCRIPTION:🧡 Each spring\, the FWC sponsors a Mother/Daughter Graduation Tea to honor the Fairfield girls graduating from high school.\n\n🧡 This long-standing tradition has taken place for over 30 years and is one of the most anticipated and inspiring events for the women in the Fairfield Women’s Club. The tea is open to all graduating senior girls that reside in Fairfield.\n\n\n🧡 If interested in attending\, please email us FairfieldWomensClub@gmail.com.  Please include the name of the young lady that is graduating\, the high school or home school she attends\, the name of the mother\, and your mailing address.\n\n🧡 Once we receive your information\, an invitation will be mailed and location information will be provided.
URL:https://fairfieldwomensclub.org/event/mother-daughter-graduation-tea-class-of-2023/
LOCATION:TBD
ATTACH;FMTTYPE=image/png:https://fairfieldwomensclub.org/wp-content/uploads/2022/11/2023-graduation-tea-2.png
ORGANIZER;CN="Fairfield%20Women%27s%20Club":MAILTO:FairfieldWomensClub@gmail.com
END:VEVENT
END:VCALENDAR