BEGIN:VCALENDAR
VERSION:2.0
PRODID:-//Fairfield Women&#039;s Club - ECPv6.1.3//NONSGML v1.0//EN
CALSCALE:GREGORIAN
METHOD:PUBLISH
X-WR-CALNAME:Fairfield Women&#039;s Club
X-ORIGINAL-URL:https://fairfieldwomensclub.org
X-WR-CALDESC:Events for Fairfield Women&#039;s Club
REFRESH-INTERVAL;VALUE=DURATION:PT1H
X-Robots-Tag:noindex
X-PUBLISHED-TTL:PT1H
BEGIN:VTIMEZONE
TZID:UTC
BEGIN:STANDARD
TZOFFSETFROM:+0000
TZOFFSETTO:+0000
TZNAME:UTC
DTSTART:20230101T000000
END:STANDARD
END:VTIMEZONE
BEGIN:VEVENT
DTSTART;TZID=UTC:20230510T113000
DTEND;TZID=UTC:20230510T130000
DTSTAMP:20260420T072353
CREATED:20221128T181634Z
LAST-MODIFIED:20221128T181821Z
UID:2118-1683718200-1683723600@fairfieldwomensclub.org
SUMMARY:May Lunch Bunch
DESCRIPTION:Please join us for food\, fun & friendship on the 2nd Wednesday of each month from 11:30am – 1pm! \nWe switch up the restaurant every month and try to support local businesses around the Fairfield Community. Lunch Bunch is a great way to get to know FWC ladies in a smaller setting over a delicious meal. Members\, guests\, and new faces welcomed!!   \nNot on our mailing list?!? Shoot us an email: fairfieldwomensclub@gmail.com
URL:https://fairfieldwomensclub.org/event/may-lunch-bunch-3/
LOCATION:TBD
ORGANIZER;CN="Fairfield%20Women%27s%20Club":MAILTO:FairfieldWomensClub@gmail.com
END:VEVENT
BEGIN:VEVENT
DTSTART;TZID=UTC:20230516T180000
DTEND;TZID=UTC:20230516T200000
DTSTAMP:20260420T072353
CREATED:20221128T181212Z
LAST-MODIFIED:20221128T181212Z
UID:2107-1684260000-1684267200@fairfieldwomensclub.org
SUMMARY:May End-of Year Membership Banquet
DESCRIPTION:
URL:https://fairfieldwomensclub.org/event/may-end-of-year-membership-banquet/
LOCATION:TBD
ORGANIZER;CN="Fairfield%20Women%27s%20Club":MAILTO:FairfieldWomensClub@gmail.com
END:VEVENT
END:VCALENDAR