BEGIN:VCALENDAR
VERSION:2.0
PRODID:-//Fairfield Women&#039;s Club - ECPv6.1.3//NONSGML v1.0//EN
CALSCALE:GREGORIAN
METHOD:PUBLISH
X-WR-CALNAME:Fairfield Women&#039;s Club
X-ORIGINAL-URL:https://fairfieldwomensclub.org
X-WR-CALDESC:Events for Fairfield Women&#039;s Club
REFRESH-INTERVAL;VALUE=DURATION:PT1H
X-Robots-Tag:noindex
X-PUBLISHED-TTL:PT1H
BEGIN:VTIMEZONE
TZID:UTC
BEGIN:STANDARD
TZOFFSETFROM:+0000
TZOFFSETTO:+0000
TZNAME:UTC
DTSTART:20230101T000000
END:STANDARD
END:VTIMEZONE
BEGIN:VEVENT
DTSTART;TZID=UTC:20230809T113000
DTEND;TZID=UTC:20230809T130000
DTSTAMP:20260422T110252
CREATED:20230707T175801Z
LAST-MODIFIED:20230707T175801Z
UID:2276-1691580600-1691586000@fairfieldwomensclub.org
SUMMARY:August Lunch Bunch @ Dario's Steakhouse and Seafood
DESCRIPTION:Please join us for food\, fun & friendship on the 2nd Wednesday of each month from 11:30am – 1pm!\nWe switch up the restaurant every month and try to support local businesses around the Fairfield Community. Lunch Bunch is a great way to get to know FWC ladies in a smaller setting over a delicious meal. Members\, guests\, and new faces welcomed!! \nNot on our mailing list?!? \nShoot us an email: fairfieldwomensclub@gmail.com
URL:https://fairfieldwomensclub.org/event/august-lunch-bunch-darios-steakhouse-and-seafood/
LOCATION:Dario’s Steakhouse and Seafood\, 14315 Cypress Rosehill Road\, Suite 162\, Cypress\, TX\, 77429\, United States
ATTACH;FMTTYPE=image/png:https://fairfieldwomensclub.org/wp-content/uploads/2023/07/FB-size-lunch-bunch-8.png
END:VEVENT
BEGIN:VEVENT
DTSTART;TZID=UTC:20230815T190000
DTEND;TZID=UTC:20230815T203000
DTSTAMP:20260422T110252
CREATED:20230707T180929Z
LAST-MODIFIED:20230810T175449Z
UID:2285-1692126000-1692131400@fairfieldwomensclub.org
SUMMARY:August General Membership Meeting @OhSewPeachy
DESCRIPTION:The Fairfield Women’s Club is taking a fieldtrip for our August General Membership Meeting! \nWe are going to OhSewPeachy\, for a Private Shopping Event located at a residential boutique in the Cole’s Crossing Neighborhood here in Cypress. \nhttps://ohsewpeachy.com/ \nWe will have wine and snacks as usual\, a short business meeting\, and a fun time shopping for clothing and accessories in their very affordable home boutique. \nWe will be meeting at the Bradford Creek Clubhouse here in Fairfield at 6:30 pm to carpool/caravan to the boutique. If you would like to catch a ride – please meet us at Bradford Creek parking lot at 6:30 pm. We will depart PROMPTLY at 6:40 pm. \nAll adult female Fairfield residents are welcome at FWC! \nNot on our mailing list? Send us your email so we can add you! \nFairfieldWomensClub@gmail.com
URL:https://fairfieldwomensclub.org/event/august-general-membership-meeting-2/
LOCATION:Bradford Creek Clubhouse\, 16011 Fairfield Green Circle\, Cypress\, TX\, 77433\, United States
ATTACH;FMTTYPE=image/png:https://fairfieldwomensclub.org/wp-content/uploads/2023/07/FB-size.FWC-General-Meeting.png
ORGANIZER;CN="Fairfield%20Women%27s%20Club":MAILTO:FairfieldWomensClub@gmail.com
END:VEVENT
END:VCALENDAR