BEGIN:VCALENDAR
VERSION:2.0
PRODID:-//Fairfield Women&#039;s Club - ECPv6.1.3//NONSGML v1.0//EN
CALSCALE:GREGORIAN
METHOD:PUBLISH
X-ORIGINAL-URL:https://fairfieldwomensclub.org
X-WR-CALDESC:Events for Fairfield Women&#039;s Club
REFRESH-INTERVAL;VALUE=DURATION:PT1H
X-Robots-Tag:noindex
X-PUBLISHED-TTL:PT1H
BEGIN:VTIMEZONE
TZID:UTC
BEGIN:STANDARD
TZOFFSETFROM:+0000
TZOFFSETTO:+0000
TZNAME:UTC
DTSTART:20240101T000000
END:STANDARD
END:VTIMEZONE
BEGIN:VEVENT
DTSTART;TZID=UTC:20240508T113000
DTEND;TZID=UTC:20240508T130000
DTSTAMP:20260423T005938
CREATED:20230902T202815Z
LAST-MODIFIED:20240220T194334Z
UID:2631-1715167800-1715173200@fairfieldwomensclub.org
SUMMARY:May Lunch Bunch @ First Watch
DESCRIPTION:Please join us for food\, fun & friendship on the 2nd Wednesday of each month from 11:30am – 1pm!\nWe switch up the restaurant every month and try to support local businesses around the Fairfield Community. Lunch Bunch is a great way to get to know FWC ladies in a smaller setting over a delicious meal. Members\, guests\, and new faces welcomed!! \nNot on our mailing list?!? \nShoot us an email: fairfieldwomensclub@gmail.com
URL:https://fairfieldwomensclub.org/event/may-lunch-bunch-4/
LOCATION:TX
ORGANIZER;CN="Fairfield%20Women%27s%20Club":MAILTO:FairfieldWomensClub@gmail.com
END:VEVENT
BEGIN:VEVENT
DTSTART;TZID=UTC:20240521T183000
DTEND;TZID=UTC:20240521T200000
DTSTAMP:20260423T005938
CREATED:20230902T203502Z
LAST-MODIFIED:20240417T024147Z
UID:2643-1716316200-1716321600@fairfieldwomensclub.org
SUMMARY:May End-of-Year Membership Banquet
DESCRIPTION:Join is for the end of the year member banquet on May 21st at 6:30 pm at LaViva Cantina! \nWe will celebrate a successful 2023-2024 year and welcome in the NEW 2024-2025 Board! \nWe can’t wait to celebrate as a club together! \n  \nDinner is $30 and can be paid thru PayPal using the QR code ($30 + $2 PayPal fee).  Your payment is your RSVP.  Please RSVP by May 12th to ensure your spot!!
URL:https://fairfieldwomensclub.org/event/may-end-of-year-membership-banquet-2/
LOCATION:TX
ATTACH;FMTTYPE=image/png:https://fairfieldwomensclub.org/wp-content/uploads/2023/09/Fairfield-Womens-Club-End-of-Year-Member-Banquet-2023-2024-11-x-8.5-in-1.png
END:VEVENT
END:VCALENDAR