BEGIN:VCALENDAR
VERSION:2.0
PRODID:-//Fairfield Women&#039;s Club - ECPv6.1.3//NONSGML v1.0//EN
CALSCALE:GREGORIAN
METHOD:PUBLISH
X-WR-CALNAME:Fairfield Women&#039;s Club
X-ORIGINAL-URL:https://fairfieldwomensclub.org
X-WR-CALDESC:Events for Fairfield Women&#039;s Club
REFRESH-INTERVAL;VALUE=DURATION:PT1H
X-Robots-Tag:noindex
X-PUBLISHED-TTL:PT1H
BEGIN:VTIMEZONE
TZID:UTC
BEGIN:STANDARD
TZOFFSETFROM:+0000
TZOFFSETTO:+0000
TZNAME:UTC
DTSTART:20240101T000000
END:STANDARD
END:VTIMEZONE
BEGIN:VEVENT
DTSTART;TZID=UTC:20241005T070000
DTEND;TZID=UTC:20241005T150000
DTSTAMP:20260423T091353
CREATED:20240815T204438Z
LAST-MODIFIED:20240815T204438Z
UID:3030-1728111600-1728140400@fairfieldwomensclub.org
SUMMARY:Fall Garage Sale Fundraiser
DESCRIPTION:WHO: any Fairfield resident that wants to host a garage sale in the SPRING of 2024\nWHEN: Saturday\, October5th\, 2024\nTIME: 7am-2pm\nWHERE: in your garage\, driveway\, or yard\nCOST:  $25 donation/house \n\n\n\n\nThis community-wide event is taking place RAIN or SHINE on SATURDAY\, October 5th\, 7am-2pm. Registration is now OPEN. \nIf you are a Fairfield resident and want to host a garage sale in the FALL of 2024\, this is the time! Simply register your home online thru the FWC website and then set up in your own garage\, driveway or yard on the day of the event. \nThe Fairfield Resident Garage Sale Fundraiser is hosted by the Fairfield Women’s Club in the Spring and Fall and the cost to register is $25. The registration cost is considered a donation and is non-refundable. Funds raised from the $25 registration donation go back into our community and to local charities. \n⭐️Although the Fairfield HOA typically prohibits garage sales\, they made an exception for FWC since the neighborhood Fall & Spring Resident Garage Sale is a community fundraiser for our non-profit organization and the proceeds directly benefit our community. ⭐️ \n⭐️Unfortunately\, if you are a resident of a community that borders Fairfield (i.e. Villages of Cypress Lakes\, Lakes of Fairhaven\, Falls of Dry Creek\, etc.) you fall under a separate HOA and your HOA will not allow participation in the Fairfield Garage Sale. We apologize for this inconvenience. ⭐️ \n\nDETAILS:\n\nThis event will take place Rain or Shine!  All of your belongings must be picked up by 3pm. \nHOW TO SIGN-UP: Click on Garage Sale Registration below. Register your name and address. Agree to the terms and conditions. Pay electronically your $25 non-refundable donation to the Fairfield Women’s Club via PayPal. $25 donation per house. There is a $1.50 PayPal fee. PayPal accepts all major credit cards and electronic check. DO NOT send money to anyone from Facebook. \nPROOF OF PAYMENT: Please print your PayPal receipt as proof of payment. On the day of the garage sale\, please have your PayPal receipt readily available in case an FWC member asks to see it. \nSIGNAGE: We no longer provide signs. You are welcome to place your own signs. However\, ALL signage MUST be removed by 3pm the day of the sale. \nREGISTRATION DEADLINE: Sign-up will close the morning of the Garage Sale; HOWEVER\, any registrations received AFTER 11:59 p.m. Friday\, April 5th\, may not be included on the map.
URL:https://fairfieldwomensclub.org/event/fall-garage-sale-fundraiser-2/
LOCATION:TX
ATTACH;FMTTYPE=image/png:https://fairfieldwomensclub.org/wp-content/uploads/2024/06/940x748-FWC-Garage-Sale-Facebook-Post-1200-×-628-px-1.png
END:VEVENT
BEGIN:VEVENT
DTSTART;TZID=UTC:20241006T160000
DTEND;TZID=UTC:20241006T190000
DTSTAMP:20260423T091353
CREATED:20240815T210101Z
LAST-MODIFIED:20240815T210335Z
UID:3037-1728230400-1728241200@fairfieldwomensclub.org
SUMMARY:Fairfield Family Night Out
DESCRIPTION:
URL:https://fairfieldwomensclub.org/event/fairfield-family-night-out-2/
LOCATION:Central park\, 15015 Heath Green Circle\, Cypress\, TX\, 77433\, United States
ATTACH;FMTTYPE=image/png:https://fairfieldwomensclub.org/wp-content/uploads/2024/08/FB-size-lunch-bunch-27.png
ORGANIZER;CN="Fairfield%20Women%27s%20Club":MAILTO:FairfieldWomensClub@gmail.com
END:VEVENT
BEGIN:VEVENT
DTSTART;TZID=UTC:20241009T113000
DTEND;TZID=UTC:20241009T133000
DTSTAMP:20260423T091353
CREATED:20240220T195259Z
LAST-MODIFIED:20240220T195259Z
UID:2818-1728473400-1728480600@fairfieldwomensclub.org
SUMMARY:October Lunch Bunch @ PF Chang's on 249
DESCRIPTION:Please join us for food\, fun & friendship on the 2nd Wednesday of each month from 11:30am – 1pm!\nWe switch up the restaurant every month and try to support local businesses around the Fairfield Community. Lunch Bunch is a great way to get to know FWC ladies in a smaller setting over a delicious meal. Members\, guests\, and new faces welcomed!! \nNot on our mailing list?!? \nShoot us an email: fairfieldwomensclub@gmail.com
URL:https://fairfieldwomensclub.org/event/october-lunch-bunch-pf-changs-on-249/
LOCATION:PF Changs\, 18250 Tomball Parkway\, Houston\, TX\, 77070\, United States
ORGANIZER;CN="Fairfield%20Women%27s%20Club":MAILTO:FairfieldWomensClub@gmail.com
END:VEVENT
END:VCALENDAR