BEGIN:VCALENDAR
VERSION:2.0
PRODID:-//Fairfield Women&#039;s Club - ECPv6.1.3//NONSGML v1.0//EN
CALSCALE:GREGORIAN
METHOD:PUBLISH
X-ORIGINAL-URL:https://fairfieldwomensclub.org
X-WR-CALDESC:Events for Fairfield Women&#039;s Club
REFRESH-INTERVAL;VALUE=DURATION:PT1H
X-Robots-Tag:noindex
X-PUBLISHED-TTL:PT1H
BEGIN:VTIMEZONE
TZID:UTC
BEGIN:STANDARD
TZOFFSETFROM:+0000
TZOFFSETTO:+0000
TZNAME:UTC
DTSTART:20250101T000000
END:STANDARD
END:VTIMEZONE
BEGIN:VEVENT
DTSTART;TZID=UTC:20250108T113000
DTEND;TZID=UTC:20250108T130000
DTSTAMP:20260425T105235
CREATED:20240617T192214Z
LAST-MODIFIED:20240617T192214Z
UID:2907-1736335800-1736341200@fairfieldwomensclub.org
SUMMARY:January Lunch Bunch @ Juanita's Mexican Kitchen
DESCRIPTION:Please join us for food\, fun & friendship on the 2nd WEDNESDAY of each month from 11:30am – 1pm!\nWe switch up the restaurant every month and try to support local businesses around the Fairfield Community. Lunch Bunch is a great way to get to know FWC ladies in a smaller setting over a delicious meal. Members\, guests\, and new faces welcomed!! \nNot on our mailing list?!? Shoot us an email: fairfieldwomensclub@gmail.com
URL:https://fairfieldwomensclub.org/event/january-lunch-bunch-juanitas-mexican-kitchen/
LOCATION:Juanita’s Mexican Kitchen\, 29110 US 290\, Suite 500\, Cypress\, TX\, 77433
END:VEVENT
END:VCALENDAR