BEGIN:VCALENDAR
VERSION:2.0
PRODID:-//Fairfield Women&#039;s Club - ECPv6.1.3//NONSGML v1.0//EN
CALSCALE:GREGORIAN
METHOD:PUBLISH
X-ORIGINAL-URL:https://fairfieldwomensclub.org
X-WR-CALDESC:Events for Fairfield Women&#039;s Club
REFRESH-INTERVAL;VALUE=DURATION:PT1H
X-Robots-Tag:noindex
X-PUBLISHED-TTL:PT1H
BEGIN:VTIMEZONE
TZID:UTC
BEGIN:STANDARD
TZOFFSETFROM:+0000
TZOFFSETTO:+0000
TZNAME:UTC
DTSTART:20250101T000000
END:STANDARD
END:VTIMEZONE
BEGIN:VEVENT
DTSTART;TZID=UTC:20250611T113000
DTEND;TZID=UTC:20250611T130000
DTSTAMP:20260425T035011
CREATED:20240617T192652Z
LAST-MODIFIED:20240617T192652Z
UID:2917-1749641400-1749646800@fairfieldwomensclub.org
SUMMARY:June Lunch Bunch @ Gringo's
DESCRIPTION:Please join us for food\, fun & friendship on the 2nd WEDNESDAY of each month from 11:30am – 1pm!\nWe switch up the restaurant every month and try to support local businesses around the Fairfield Community. Lunch Bunch is a great way to get to know FWC ladies in a smaller setting over a delicious meal. Members\, guests\, and new faces welcomed!! \nNot on our mailing list?!? Shoot us an email: fairfieldwomensclub@gmail.com
URL:https://fairfieldwomensclub.org/event/june-lunch-bunch-gringos/
LOCATION:Gringo’s Mexican Kitchen\, 27030 Northwest Freeway\, Cypress\, TX\, 77429\, United States
ORGANIZER;CN="Fairfield%20Women%27s%20Club":MAILTO:FairfieldWomensClub@gmail.com
END:VEVENT
BEGIN:VEVENT
DTSTART;TZID=UTC:20250617T190000
DTEND;TZID=UTC:20250617T203000
DTSTAMP:20260425T035011
CREATED:20250617T021627Z
LAST-MODIFIED:20250617T021627Z
UID:3123-1750186800-1750192200@fairfieldwomensclub.org
SUMMARY:General Meeting - Bradford Creek @ 7pm
DESCRIPTION:
URL:https://fairfieldwomensclub.org/event/general-meeting-bradford-creek-7pm/
LOCATION:Bradford Creek Clubhouse\, 16011 Fairfield Green Circle\, Cypress\, TX\, 77433\, United States
END:VEVENT
BEGIN:VEVENT
DTSTART;TZID=UTC:20250626T190000
DTEND;TZID=UTC:20250626T200000
DTSTAMP:20260425T035011
CREATED:20250617T021814Z
LAST-MODIFIED:20250617T021814Z
UID:3125-1750964400-1750968000@fairfieldwomensclub.org
SUMMARY:Bunco Night - Location TBD
DESCRIPTION:Dessert\, water/tea BYOB
URL:https://fairfieldwomensclub.org/event/bunco-night-location-tbd/
LOCATION:TX
END:VEVENT
END:VCALENDAR